BEGIN:VCALENDAR
VERSION:2.0
PRODID:-//CEIP Sant Ciriac - ECPv6.8.2.1//NONSGML v1.0//EN
CALSCALE:GREGORIAN
METHOD:PUBLISH
X-ORIGINAL-URL:https://www.ceipsantciriac.com
X-WR-CALDESC:Esdeveniments per CEIP Sant Ciriac
REFRESH-INTERVAL;VALUE=DURATION:PT1H
X-Robots-Tag:noindex
X-PUBLISHED-TTL:PT1H
BEGIN:VTIMEZONE
TZID:Europe/Madrid
BEGIN:DAYLIGHT
TZOFFSETFROM:+0100
TZOFFSETTO:+0200
TZNAME:CEST
DTSTART:20240331T010000
END:DAYLIGHT
BEGIN:STANDARD
TZOFFSETFROM:+0200
TZOFFSETTO:+0100
TZNAME:CET
DTSTART:20241027T010000
END:STANDARD
END:VTIMEZONE
BEGIN:VEVENT
DTSTART;TZID=Europe/Madrid:20240328T080000
DTEND;TZID=Europe/Madrid:20240407T170000
DTSTAMP:20260420T055727
CREATED:20230831T103749Z
LAST-MODIFIED:20240319T182923Z
UID:3889-1711612800-1712509200@www.ceipsantciriac.com
SUMMARY:Vacances de Pasqua
DESCRIPTION:L’escola romandrà tancada des del 28 de març fins al 7 d’abril amb motiu de les vacances de pasqua. \nEns veiem el dia 8 d’abril!!
URL:https://www.ceipsantciriac.com/esdeveniment/vacances-de-pasqua-2/
CATEGORIES:Vacances
END:VEVENT
BEGIN:VEVENT
DTSTART;TZID=Europe/Madrid:20240411T080000
DTEND;TZID=Europe/Madrid:20240411T170000
DTSTAMP:20260420T055727
CREATED:20240411T162534Z
LAST-MODIFIED:20240411T162541Z
UID:4493-1712822400-1712854800@www.ceipsantciriac.com
SUMMARY:Escolarització 24-25
DESCRIPTION:S’ha publicat al BOIB la normativa referent als processos d’adscripció\, admissió i matriculació d’alumnat als centres sostinguts amb Fons públics. \nhttps://www.ceipsantciriac.com/escolaritzacio-curs-2024-2025/
URL:https://www.ceipsantciriac.com/esdeveniment/escolaritzacio-24-25/
END:VEVENT
BEGIN:VEVENT
DTSTART;TZID=Europe/Madrid:20240412T080000
DTEND;TZID=Europe/Madrid:20240412T170000
DTSTAMP:20260420T055727
CREATED:20240414T084728Z
LAST-MODIFIED:20240414T084843Z
UID:4507-1712908800-1712941200@www.ceipsantciriac.com
SUMMARY:Donació APIMA
DESCRIPTION:L’APIMA amb la seva vocació de contribuir per millorar l’educació del nostre alumnat ha comprat material per l’aula de psicomotricitat valorat en 606 €. \n\n\n\nL’APIMA subvenciona algunes excursions\, sortides extraescolars i ajudes pel viatge de fi de curs. També col·labora en algunes activitats que es realitzen a l’escola i està sempre disposada a ajudar en tot el que se li demana. \n\n\n\nDes d’aquí volem agrair aquestes iniciatives i donar suport perquè continuen amb aquestes accions.
URL:https://www.ceipsantciriac.com/esdeveniment/donacio-apima/
END:VEVENT
BEGIN:VEVENT
DTSTART;TZID=Europe/Madrid:20240415T080000
DTEND;TZID=Europe/Madrid:20240415T170000
DTSTAMP:20260420T055727
CREATED:20240415T084303Z
LAST-MODIFIED:20240415T084701Z
UID:4512-1713168000-1713200400@www.ceipsantciriac.com
SUMMARY:Jornada de Portes Obertes
DESCRIPTION:Si voleu venir a veure la nostra escola\, heu de reservar plaça  al nostre e-mail ceipsantciriac@educaib.eu o per telèfon 971331200. \nVos esperam!!!
URL:https://www.ceipsantciriac.com/esdeveniment/jornada-de-portes-obertes/
END:VEVENT
BEGIN:VEVENT
DTSTART;TZID=Europe/Madrid:20240417T080000
DTEND;TZID=Europe/Madrid:20240417T170000
DTSTAMP:20260420T055727
CREATED:20240415T084914Z
LAST-MODIFIED:20240415T084958Z
UID:4518-1713340800-1713373200@www.ceipsantciriac.com
SUMMARY:Jornada Portes Obertes
DESCRIPTION:Si voleu venir a veure la nostra escola\, heu de reservar plaça  al nostre e-mail ceipsantciriac@educaib.eu o per telèfon 971331200. \nVos esperam!!!
URL:https://www.ceipsantciriac.com/esdeveniment/jornada-portes-obertes/
END:VEVENT
BEGIN:VEVENT
DTSTART;TZID=Europe/Madrid:20240423T090000
DTEND;TZID=Europe/Madrid:20240423T140000
DTSTAMP:20260420T055727
CREATED:20240423T175311Z
LAST-MODIFIED:20240423T191816Z
UID:4521-1713862800-1713880800@www.ceipsantciriac.com
SUMMARY:Sant Jordi
DESCRIPTION:Avui hem celebrat el dia de Sant Jordi a l’escola amb diverses activitats. \nEnllaç a la Noticia
URL:https://www.ceipsantciriac.com/esdeveniment/sant-jordi/
CATEGORIES:Celebracions
END:VEVENT
END:VCALENDAR