BEGIN:VCALENDAR
VERSION:2.0
PRODID:-//CEIP Sant Ciriac - ECPv6.8.2.1//NONSGML v1.0//EN
CALSCALE:GREGORIAN
METHOD:PUBLISH
X-WR-CALNAME:CEIP Sant Ciriac
X-ORIGINAL-URL:https://www.ceipsantciriac.com
X-WR-CALDESC:Esdeveniments per CEIP Sant Ciriac
REFRESH-INTERVAL;VALUE=DURATION:PT1H
X-Robots-Tag:noindex
X-PUBLISHED-TTL:PT1H
BEGIN:VTIMEZONE
TZID:Europe/Madrid
BEGIN:DAYLIGHT
TZOFFSETFROM:+0100
TZOFFSETTO:+0200
TZNAME:CEST
DTSTART:20220327T010000
END:DAYLIGHT
BEGIN:STANDARD
TZOFFSETFROM:+0200
TZOFFSETTO:+0100
TZNAME:CET
DTSTART:20221030T010000
END:STANDARD
END:VTIMEZONE
BEGIN:VEVENT
DTSTART;VALUE=DATE:20220622
DTEND;VALUE=DATE:20220623
DTSTAMP:20260421T154149
CREATED:20220413T105515Z
LAST-MODIFIED:20220413T105909Z
UID:2401-1655856000-1655942399@www.ceipsantciriac.com
SUMMARY:Llistes definitives (Admissió)
DESCRIPTION:
URL:https://www.ceipsantciriac.com/esdeveniment/llistes-definitives/
END:VEVENT
BEGIN:VEVENT
DTSTART;VALUE=DATE:20220623
DTEND;VALUE=DATE:20220624
DTSTAMP:20260421T154149
CREATED:20220413T105626Z
LAST-MODIFIED:20220413T105626Z
UID:2403-1655942400-1656028799@www.ceipsantciriac.com
SUMMARY:Matriculació INFANTIL
DESCRIPTION:
URL:https://www.ceipsantciriac.com/esdeveniment/matriculacio-infantil/
END:VEVENT
BEGIN:VEVENT
DTSTART;TZID=Europe/Madrid:20220624T080000
DTEND;TZID=Europe/Madrid:20220624T170000
DTSTAMP:20260421T154149
CREATED:20220413T105749Z
LAST-MODIFIED:20220413T105749Z
UID:2405-1656057600-1656090000@www.ceipsantciriac.com
SUMMARY:Matriculació PRIMÀRIA
DESCRIPTION:des del dia   24/06   fins al dia   30/06
URL:https://www.ceipsantciriac.com/esdeveniment/matriculacio-primaria/
END:VEVENT
END:VCALENDAR