BEGIN:VCALENDAR
VERSION:2.0
PRODID:-//CEIP Sant Ciriac - ECPv6.8.2.1//NONSGML v1.0//EN
CALSCALE:GREGORIAN
METHOD:PUBLISH
X-ORIGINAL-URL:https://www.ceipsantciriac.com
X-WR-CALDESC:Esdeveniments per CEIP Sant Ciriac
REFRESH-INTERVAL;VALUE=DURATION:PT1H
X-Robots-Tag:noindex
X-PUBLISHED-TTL:PT1H
BEGIN:VTIMEZONE
TZID:UTC
BEGIN:STANDARD
TZOFFSETFROM:+0000
TZOFFSETTO:+0000
TZNAME:UTC
DTSTART:20210101T000000
END:STANDARD
TZID:Europe/Madrid
BEGIN:DAYLIGHT
TZOFFSETFROM:+0100
TZOFFSETTO:+0200
TZNAME:CEST
DTSTART:20210328T010000
END:DAYLIGHT
BEGIN:STANDARD
TZOFFSETFROM:+0200
TZOFFSETTO:+0100
TZNAME:CET
DTSTART:20211031T010000
END:STANDARD
END:VTIMEZONE
BEGIN:VEVENT
DTSTART;VALUE=DATE:20210910
DTEND;VALUE=DATE:20210911
DTSTAMP:20260422T034912
CREATED:20170822T102648Z
LAST-MODIFIED:20210902T124920Z
UID:712-1631232000-1631318399@www.ceipsantciriac.com
SUMMARY:Comença primaria el nou curs
DESCRIPTION:Comença primaria el nou curs
URL:https://www.ceipsantciriac.com/esdeveniment/childrens-book-week/
LOCATION:SuperOwly Kindergarten\, C/ MUSIC FERMI MARI Nº 7 BAJO 5\, IBIZA\, Balearic Islands\, 07800\, España
CATEGORIES:Inici curs
ATTACH;FMTTYPE=image/jpeg:https://www.ceipsantciriac.com/wp-content/uploads/2017/09/750x460_img.jpg
ORGANIZER;CN="John Smith":MAILTO:info@companyname.com
END:VEVENT
BEGIN:VEVENT
DTSTART;VALUE=DATE:20210910
DTEND;VALUE=DATE:20210911
DTSTAMP:20260422T034912
CREATED:20210904T101015Z
LAST-MODIFIED:20210904T101015Z
UID:1831-1631232000-1631318399@www.ceipsantciriac.com
SUMMARY:Inici infantil i 1r Primària
DESCRIPTION:Inici infantil i 1r Primària.
URL:https://www.ceipsantciriac.com/esdeveniment/inici-infantil-i-1r-primaria/
END:VEVENT
END:VCALENDAR