BEGIN:VCALENDAR
VERSION:2.0
PRODID:-//CEIP Sant Ciriac - ECPv6.8.2.1//NONSGML v1.0//EN
CALSCALE:GREGORIAN
METHOD:PUBLISH
X-ORIGINAL-URL:https://www.ceipsantciriac.com
X-WR-CALDESC:Esdeveniments per CEIP Sant Ciriac
REFRESH-INTERVAL;VALUE=DURATION:PT1H
X-Robots-Tag:noindex
X-PUBLISHED-TTL:PT1H
BEGIN:VTIMEZONE
TZID:Europe/Madrid
BEGIN:DAYLIGHT
TZOFFSETFROM:+0100
TZOFFSETTO:+0200
TZNAME:CEST
DTSTART:20210328T010000
END:DAYLIGHT
BEGIN:STANDARD
TZOFFSETFROM:+0200
TZOFFSETTO:+0100
TZNAME:CET
DTSTART:20211031T010000
END:STANDARD
BEGIN:DAYLIGHT
TZOFFSETFROM:+0100
TZOFFSETTO:+0200
TZNAME:CEST
DTSTART:20220327T010000
END:DAYLIGHT
BEGIN:STANDARD
TZOFFSETFROM:+0200
TZOFFSETTO:+0100
TZNAME:CET
DTSTART:20221030T010000
END:STANDARD
BEGIN:DAYLIGHT
TZOFFSETFROM:+0100
TZOFFSETTO:+0200
TZNAME:CEST
DTSTART:20230326T010000
END:DAYLIGHT
BEGIN:STANDARD
TZOFFSETFROM:+0200
TZOFFSETTO:+0100
TZNAME:CET
DTSTART:20231029T010000
END:STANDARD
END:VTIMEZONE
BEGIN:VEVENT
DTSTART;TZID=Europe/Madrid:20211206T080000
DTEND;TZID=Europe/Madrid:20211208T170000
DTSTAMP:20260422T035636
CREATED:20211013T101337Z
LAST-MODIFIED:20211013T101346Z
UID:1912-1638777600-1638982800@www.ceipsantciriac.com
SUMMARY:Pont de la Constitució
DESCRIPTION:
URL:https://www.ceipsantciriac.com/esdeveniment/pont-de-la-constitucio/
CATEGORIES:Festius
END:VEVENT
BEGIN:VEVENT
DTSTART;VALUE=DATE:20220218
DTEND;VALUE=DATE:20220219
DTSTAMP:20260422T035636
CREATED:20220218T080057Z
LAST-MODIFIED:20220216T112926Z
UID:2241-1645142400-1645228799@www.ceipsantciriac.com
SUMMARY:Ja ve el Rei Carnestoltes!!!
DESCRIPTION:Atenció!!\n\n  \n 
URL:https://www.ceipsantciriac.com/esdeveniment/rei-carnestoltes-video-1/
CATEGORIES:Carnestoltes
END:VEVENT
BEGIN:VEVENT
DTSTART;TZID=Europe/Madrid:20220221T080000
DTEND;TZID=Europe/Madrid:20220221T170000
DTSTAMP:20260422T035636
CREATED:20220221T080026Z
LAST-MODIFIED:20220221T081058Z
UID:2260-1645430400-1645462800@www.ceipsantciriac.com
SUMMARY:Carnestoltes I
DESCRIPTION:Avui el Rei Carnestoltes ens demana…\n\n	\n		\n	\n	\n	\n	\n		VIDEO 1
URL:https://www.ceipsantciriac.com/esdeveniment/carnestoltes-1/
CATEGORIES:Carnestoltes
END:VEVENT
BEGIN:VEVENT
DTSTART;VALUE=DATE:20220222
DTEND;VALUE=DATE:20220223
DTSTAMP:20260422T035636
CREATED:20220222T080048Z
LAST-MODIFIED:20220222T074121Z
UID:2267-1645488000-1645574399@www.ceipsantciriac.com
SUMMARY:Carnestoltes II
DESCRIPTION:Per demà hem de dur…\n\n		\n	\n	\n	\n	\n		Video 2
URL:https://www.ceipsantciriac.com/esdeveniment/carnestoltes-ii/
CATEGORIES:Carnestoltes
END:VEVENT
BEGIN:VEVENT
DTSTART;VALUE=DATE:20220223
DTEND;VALUE=DATE:20220224
DTSTAMP:20260422T035636
CREATED:20220223T080013Z
LAST-MODIFIED:20220222T075533Z
UID:2271-1645574400-1645660799@www.ceipsantciriac.com
SUMMARY:Carnestoltes III
DESCRIPTION: I per demà…\n\nhttps://www.ceipsantciriac.com/wp-content/uploads/2022/02/carnestoltes-22-dimecres-23_GHuW2ZpM.mp4\n 
URL:https://www.ceipsantciriac.com/esdeveniment/carnestoltes-iii/
CATEGORIES:Carnestoltes
END:VEVENT
BEGIN:VEVENT
DTSTART;VALUE=DATE:20220225
DTEND;VALUE=DATE:20220226
DTSTAMP:20260422T035636
CREATED:20211013T101629Z
LAST-MODIFIED:20211013T101635Z
UID:1916-1645747200-1645833599@www.ceipsantciriac.com
SUMMARY:Dia Festiu
DESCRIPTION:
URL:https://www.ceipsantciriac.com/esdeveniment/dia-festiu-3/
CATEGORIES:Festius
END:VEVENT
BEGIN:VEVENT
DTSTART;VALUE=DATE:20220228
DTEND;VALUE=DATE:20220301
DTSTAMP:20260422T035636
CREATED:20211013T101707Z
LAST-MODIFIED:20211013T101922Z
UID:1918-1646006400-1646092799@www.ceipsantciriac.com
SUMMARY:Festa Escolar Unificada
DESCRIPTION:
URL:https://www.ceipsantciriac.com/esdeveniment/dia-festiu-4/
CATEGORIES:Festius
END:VEVENT
BEGIN:VEVENT
DTSTART;VALUE=DATE:20220301
DTEND;VALUE=DATE:20220302
DTSTAMP:20260422T035636
CREATED:20211013T102054Z
LAST-MODIFIED:20211013T102100Z
UID:1922-1646092800-1646179199@www.ceipsantciriac.com
SUMMARY:Dia de les Illes Balears
DESCRIPTION:
URL:https://www.ceipsantciriac.com/esdeveniment/dia-de-les-illes-balears/
CATEGORIES:Festius
END:VEVENT
BEGIN:VEVENT
DTSTART;VALUE=DATE:20220428
DTEND;VALUE=DATE:20220429
DTSTAMP:20260422T035636
CREATED:20220413T102542Z
LAST-MODIFIED:20220413T102542Z
UID:2387-1651104000-1651190399@www.ceipsantciriac.com
SUMMARY:Portes Obertes
DESCRIPTION:de 13h a 14h
URL:https://www.ceipsantciriac.com/esdeveniment/portes-obertes/
END:VEVENT
BEGIN:VEVENT
DTSTART;VALUE=DATE:20220505
DTEND;VALUE=DATE:20220506
DTSTAMP:20260422T035636
CREATED:20220413T104356Z
LAST-MODIFIED:20220413T104356Z
UID:2391-1651708800-1651795199@www.ceipsantciriac.com
SUMMARY:Portes Obertes
DESCRIPTION:de 13h a 14h
URL:https://www.ceipsantciriac.com/esdeveniment/portes-obertes-2/
END:VEVENT
BEGIN:VEVENT
DTSTART;VALUE=DATE:20220509
DTEND;VALUE=DATE:20220510
DTSTAMP:20260422T035636
CREATED:20220413T104516Z
LAST-MODIFIED:20220413T104659Z
UID:2393-1652054400-1652140799@www.ceipsantciriac.com
SUMMARY:Procés d'admissió 22/23
DESCRIPTION:des del dia   9/05  fins dia   20/05
URL:https://www.ceipsantciriac.com/esdeveniment/proces-dadmissio/
END:VEVENT
BEGIN:VEVENT
DTSTART;VALUE=DATE:20220520
DTEND;VALUE=DATE:20220521
DTSTAMP:20260422T035636
CREATED:20220413T104632Z
LAST-MODIFIED:20220413T104642Z
UID:2395-1653004800-1653091199@www.ceipsantciriac.com
SUMMARY:Finalització procés d'admissió 22/23
DESCRIPTION:
URL:https://www.ceipsantciriac.com/esdeveniment/finalitzacio-proces-dadmissio/
END:VEVENT
BEGIN:VEVENT
DTSTART;VALUE=DATE:20220622
DTEND;VALUE=DATE:20220623
DTSTAMP:20260422T035636
CREATED:20220413T105515Z
LAST-MODIFIED:20220413T105909Z
UID:2401-1655856000-1655942399@www.ceipsantciriac.com
SUMMARY:Llistes definitives (Admissió)
DESCRIPTION:
URL:https://www.ceipsantciriac.com/esdeveniment/llistes-definitives/
END:VEVENT
BEGIN:VEVENT
DTSTART;VALUE=DATE:20220623
DTEND;VALUE=DATE:20220624
DTSTAMP:20260422T035636
CREATED:20220413T105626Z
LAST-MODIFIED:20220413T105626Z
UID:2403-1655942400-1656028799@www.ceipsantciriac.com
SUMMARY:Matriculació INFANTIL
DESCRIPTION:
URL:https://www.ceipsantciriac.com/esdeveniment/matriculacio-infantil/
END:VEVENT
BEGIN:VEVENT
DTSTART;TZID=Europe/Madrid:20220624T080000
DTEND;TZID=Europe/Madrid:20220624T170000
DTSTAMP:20260422T035636
CREATED:20220413T105749Z
LAST-MODIFIED:20220413T105749Z
UID:2405-1656057600-1656090000@www.ceipsantciriac.com
SUMMARY:Matriculació PRIMÀRIA
DESCRIPTION:des del dia   24/06   fins al dia   30/06
URL:https://www.ceipsantciriac.com/esdeveniment/matriculacio-primaria/
END:VEVENT
BEGIN:VEVENT
DTSTART;VALUE=DATE:20220912
DTEND;VALUE=DATE:20220913
DTSTAMP:20260422T035636
CREATED:20220901T101746Z
LAST-MODIFIED:20220901T101746Z
UID:2849-1662940800-1663027199@www.ceipsantciriac.com
SUMMARY:Inici de curs 22/23
DESCRIPTION:
URL:https://www.ceipsantciriac.com/esdeveniment/inici-de-curs-22-23/
END:VEVENT
BEGIN:VEVENT
DTSTART;VALUE=DATE:20220930
DTEND;VALUE=DATE:20221001
DTSTAMP:20260422T035636
CREATED:20220915T071305Z
LAST-MODIFIED:20220915T071351Z
UID:3009-1664496000-1664582399@www.ceipsantciriac.com
SUMMARY:Finalització termini ajuts NESE
DESCRIPTION:https://www.ceipsantciriac.com/2022/09/15/ajuts-alumnat-nese/
URL:https://www.ceipsantciriac.com/esdeveniment/finalitzacio-termini-ajuts-nese/
END:VEVENT
BEGIN:VEVENT
DTSTART;VALUE=DATE:20221012
DTEND;VALUE=DATE:20221013
DTSTAMP:20260422T035636
CREATED:20220901T101849Z
LAST-MODIFIED:20220901T102915Z
UID:2852-1665532800-1665619199@www.ceipsantciriac.com
SUMMARY:Dia Festiu
DESCRIPTION:El Pilar
URL:https://www.ceipsantciriac.com/esdeveniment/dia-festiu-6/
END:VEVENT
BEGIN:VEVENT
DTSTART;VALUE=DATE:20221031
DTEND;VALUE=DATE:20221101
DTSTAMP:20260422T035636
CREATED:20220915T070740Z
LAST-MODIFIED:20220915T070740Z
UID:3007-1667174400-1667260799@www.ceipsantciriac.com
SUMMARY:Dia no lectiu
DESCRIPTION:
URL:https://www.ceipsantciriac.com/esdeveniment/dia-no-lectiu/
END:VEVENT
BEGIN:VEVENT
DTSTART;VALUE=DATE:20221101
DTEND;VALUE=DATE:20221102
DTSTAMP:20260422T035636
CREATED:20220901T102025Z
LAST-MODIFIED:20220901T102948Z
UID:2854-1667260800-1667347199@www.ceipsantciriac.com
SUMMARY:Dia Festiu
DESCRIPTION:Tots Sants!
URL:https://www.ceipsantciriac.com/esdeveniment/dia-festiu-tots-sants/
END:VEVENT
BEGIN:VEVENT
DTSTART;VALUE=DATE:20221205
DTEND;VALUE=DATE:20221206
DTSTAMP:20260422T035636
CREATED:20220915T071830Z
LAST-MODIFIED:20220915T071830Z
UID:3011-1670198400-1670284799@www.ceipsantciriac.com
SUMMARY:Dia no lectiu
DESCRIPTION:
URL:https://www.ceipsantciriac.com/esdeveniment/dia-no-lectiu-2/
END:VEVENT
BEGIN:VEVENT
DTSTART;VALUE=DATE:20221206
DTEND;VALUE=DATE:20221207
DTSTAMP:20260422T035636
CREATED:20220901T102415Z
LAST-MODIFIED:20220901T103017Z
UID:2859-1670284800-1670371199@www.ceipsantciriac.com
SUMMARY:Dia Festiu
DESCRIPTION:La Constitució
URL:https://www.ceipsantciriac.com/esdeveniment/dia-festiu-la-constitucio/
END:VEVENT
BEGIN:VEVENT
DTSTART;VALUE=DATE:20221208
DTEND;VALUE=DATE:20221209
DTSTAMP:20260422T035636
CREATED:20220901T102547Z
LAST-MODIFIED:20220901T102547Z
UID:2861-1670457600-1670543999@www.ceipsantciriac.com
SUMMARY:Dia Festiu
DESCRIPTION:Inmaculada Concepción
URL:https://www.ceipsantciriac.com/esdeveniment/dia-festiu-7/
END:VEVENT
BEGIN:VEVENT
DTSTART;VALUE=DATE:20230227
DTEND;VALUE=DATE:20230228
DTSTAMP:20260422T035636
CREATED:20220915T071929Z
LAST-MODIFIED:20220915T071929Z
UID:3013-1677456000-1677542399@www.ceipsantciriac.com
SUMMARY:Dia no lectiu
DESCRIPTION:
URL:https://www.ceipsantciriac.com/esdeveniment/dia-no-lectiu-3/
END:VEVENT
BEGIN:VEVENT
DTSTART;VALUE=DATE:20230228
DTEND;VALUE=DATE:20230301
DTSTAMP:20260422T035636
CREATED:20220901T104034Z
LAST-MODIFIED:20220901T104034Z
UID:2871-1677542400-1677628799@www.ceipsantciriac.com
SUMMARY:Dia Festiu
DESCRIPTION:Festa Escolar Unificada
URL:https://www.ceipsantciriac.com/esdeveniment/dia-festiu-8/
END:VEVENT
BEGIN:VEVENT
DTSTART;VALUE=DATE:20230301
DTEND;VALUE=DATE:20230302
DTSTAMP:20260422T035636
CREATED:20220901T104126Z
LAST-MODIFIED:20220901T104126Z
UID:2873-1677628800-1677628800@www.ceipsantciriac.com
SUMMARY:Dia Festiu
DESCRIPTION:Dia de les Illes Balears
URL:https://www.ceipsantciriac.com/esdeveniment/dia-festiu-9/
END:VEVENT
BEGIN:VEVENT
DTSTART;VALUE=DATE:20230422
DTEND;VALUE=DATE:20230423
DTSTAMP:20260422T035636
CREATED:20230327T110059Z
LAST-MODIFIED:20230327T110059Z
UID:3506-1682121600-1682207999@www.ceipsantciriac.com
SUMMARY:Festa 50 aniversari SANT CIRIAC!
DESCRIPTION:
URL:https://www.ceipsantciriac.com/esdeveniment/festa-50-aniversari-sant-ciriac/
CATEGORIES:Aniversari
END:VEVENT
BEGIN:VEVENT
DTSTART;VALUE=DATE:20230427
DTEND;VALUE=DATE:20230428
DTSTAMP:20260422T035636
CREATED:20230327T104120Z
LAST-MODIFIED:20230327T104230Z
UID:3493-1682553600-1682639999@www.ceipsantciriac.com
SUMMARY:Portes Obertes
DESCRIPTION:de 13h a 14h
URL:https://www.ceipsantciriac.com/esdeveniment/portes-obertes-3/
END:VEVENT
BEGIN:VEVENT
DTSTART;VALUE=DATE:20230501
DTEND;VALUE=DATE:20230502
DTSTAMP:20260422T035636
CREATED:20211013T102404Z
LAST-MODIFIED:20220901T104542Z
UID:1926-1682899200-1682985599@www.ceipsantciriac.com
SUMMARY:Dia Festiu
DESCRIPTION:Dia del Treballador
URL:https://www.ceipsantciriac.com/esdeveniment/dia-festiu-5/
CATEGORIES:Festius
END:VEVENT
BEGIN:VEVENT
DTSTART;VALUE=DATE:20230502
DTEND;VALUE=DATE:20230503
DTSTAMP:20260422T035636
CREATED:20220915T072016Z
LAST-MODIFIED:20220915T072016Z
UID:3015-1682985600-1683071999@www.ceipsantciriac.com
SUMMARY:Dia no lectiu
DESCRIPTION:
URL:https://www.ceipsantciriac.com/esdeveniment/dia-no-lectiu-4/
END:VEVENT
END:VCALENDAR