BEGIN:VCALENDAR
VERSION:2.0
PRODID:-//CEIP Sant Ciriac - ECPv6.8.2.1//NONSGML v1.0//EN
CALSCALE:GREGORIAN
METHOD:PUBLISH
X-WR-CALNAME:CEIP Sant Ciriac
X-ORIGINAL-URL:https://www.ceipsantciriac.com
X-WR-CALDESC:Esdeveniments per CEIP Sant Ciriac
REFRESH-INTERVAL;VALUE=DURATION:PT1H
X-Robots-Tag:noindex
X-PUBLISHED-TTL:PT1H
BEGIN:VTIMEZONE
TZID:Europe/Madrid
BEGIN:DAYLIGHT
TZOFFSETFROM:+0100
TZOFFSETTO:+0200
TZNAME:CEST
DTSTART:20240331T010000
END:DAYLIGHT
BEGIN:STANDARD
TZOFFSETFROM:+0200
TZOFFSETTO:+0100
TZNAME:CET
DTSTART:20241027T010000
END:STANDARD
BEGIN:DAYLIGHT
TZOFFSETFROM:+0100
TZOFFSETTO:+0200
TZNAME:CEST
DTSTART:20250330T010000
END:DAYLIGHT
BEGIN:STANDARD
TZOFFSETFROM:+0200
TZOFFSETTO:+0100
TZNAME:CET
DTSTART:20251026T010000
END:STANDARD
END:VTIMEZONE
BEGIN:VEVENT
DTSTART;TZID=Europe/Madrid:20240513T080000
DTEND;TZID=Europe/Madrid:20240513T170000
DTSTAMP:20260420T094105
CREATED:20240513T175550Z
LAST-MODIFIED:20240517T184032Z
UID:4605-1715587200-1715619600@www.ceipsantciriac.com
SUMMARY:PREMIS DELS CONCURSOS DE DIBUIX I REDACCIÓ DEL PARLAMENT DE LES ILLES BALEARS
DESCRIPTION:El dilluns dia 13 de maig va tenir lloc el lliurament de premis de la XX edició del Concurs de dibuix “Un Parlament per a tothom” i de la XVII edició del Concurs d’expressió escrita “Valors i Parlament” per a les categories Illes Balears i Mallorca\, entre l’alumnat de 6è de primària. L’acte es va celebrar al Conservatori Superior de Música de les Illes Balears\, un escenari fantàstic on l’alumnat ha escoltat les paraules del president del parlament\, i les persones premiades han rebut el reconeixement. \nEntre elles la nostra alumna Maria Torres Planells de 6è B que va guanyar el premi al dibuix més original de Balears\, i a qui volem felicitar d’una forma molt especial. \nEnhorabona Maria!!!
URL:https://www.ceipsantciriac.com/esdeveniment/premis-dels-concursos-de-dibuix-i-redaccio-del-parlament-de-les-illes-balears/
ATTACH;FMTTYPE=image/jpeg:https://www.ceipsantciriac.com/wp-content/uploads/2024/05/IMG-20240517-WA0002.jpg
END:VEVENT
BEGIN:VEVENT
DTSTART;TZID=Europe/Madrid:20240529T080000
DTEND;TZID=Europe/Madrid:20240529T170000
DTSTAMP:20260420T094105
CREATED:20240529T185919Z
LAST-MODIFIED:20240529T205819Z
UID:4626-1716969600-1717002000@www.ceipsantciriac.com
SUMMARY:GUANYADORA DEL CONCURS DE DIBUIX PER LA SAMARRETA DE LA DIADA DEL CENTRE 2024
DESCRIPTION:Na Gisela Ramon Marquez ha resultat guanyadora del CONCURS DE DIBUIX PER LA SAMARRETA DE LA DIADA DEL CENTRE 2024. \nAvui l’Equip Directiu\, representants de la Comissió d’ACE i la tutora\, davant de les companyes i companys d’Educació Infantil han donat a conèixer el nom de la guanyadora que ha rebut com a premi un pack de pintura. \nEnhorabona Gisela!!!
URL:https://www.ceipsantciriac.com/esdeveniment/guanyadora-del-concurs-de-dibuix-per-la-samarreta-de-la-diada-del-centre-2024/
ATTACH;FMTTYPE=image/jpeg:https://www.ceipsantciriac.com/wp-content/uploads/2024/05/IMG-20240529-WA0013-e1717016229514.jpg
END:VEVENT
BEGIN:VEVENT
DTSTART;TZID=Europe/Madrid:20240531T080000
DTEND;TZID=Europe/Madrid:20240531T140000
DTSTAMP:20260420T094105
CREATED:20240531T203321Z
LAST-MODIFIED:20240602T182748Z
UID:4649-1717142400-1717164000@www.ceipsantciriac.com
SUMMARY:DIADA DEL CENTRE
DESCRIPTION:Avui hem celebrat la Diada del Centre. Ha estat un dia especial que hem dedicat a fer multitud de tallers amb la col·laboració del claustre de mestres\, antics docents i mares i pares\, on l’alumnat ha pogut anar lliurement. L’Amipa ens ha convidat a menjar un gelat. \nA primària els tallers han estat: experiments\, xapes\, dibuix scratch\, polseres\, pedra-paper-tisora\, clauers\, clauers de bolletes\, manualitat llapis\, titelles de dit\, pa amb oli\, titelles de pal\, la fira+circuit xapes\, tangram\, jocs de taula\, bàsquet\, hama beads\, penalty americà\, just dance\, atrapa somnis\, pintura van gogh\, bombolles sabó\, massatge\, perruqueria i estètica\, bou verro\, jocs reciclats. \nA Infantil: ball\, taller pintar gorres\, joc heurístic\, pinta-ungles\, maquillatge\, joc pesca\, tatuatges\, polseres\, judo\, \nEns ho hem passat mooolt bé!!! \nMoltes gràcies a tothom per la seva ajuda i col·laboració. \nGALERIA d’imatges de la DIADA
URL:https://www.ceipsantciriac.com/esdeveniment/diada-del-centre/
CATEGORIES:Celebracions
ATTACH;FMTTYPE=image/jpeg:https://www.ceipsantciriac.com/wp-content/uploads/2024/05/IMG-20240531-WA0016.jpg
END:VEVENT
BEGIN:VEVENT
DTSTART;TZID=Europe/Madrid:20240620T150000
DTEND;TZID=Europe/Madrid:20240620T170000
DTSTAMP:20260420T094105
CREATED:20240620T130027Z
LAST-MODIFIED:20240623T191137Z
UID:4854-1718895600-1718902800@www.ceipsantciriac.com
SUMMARY:REVISTA ESCOLAR SA VEU DES PUIG 23-24
DESCRIPTION:Ja podeu veure la nostra revista escolar d’aquest curs clicant al següent enllaç!!! \nhttps://drive.google.com/file/d/1TGbG_dZpqF6pcnV7AhiH_LvNNvu8-gwr/view?usp=sharing \n 
URL:https://www.ceipsantciriac.com/esdeveniment/revista-escolar-sa-veu-des-puig-23-24/
END:VEVENT
BEGIN:VEVENT
DTSTART;VALUE=DATE:20240621
DTEND;VALUE=DATE:20240622
DTSTAMP:20260420T094105
CREATED:20230831T104552Z
LAST-MODIFIED:20230831T104556Z
UID:3891-1718928000-1719014399@www.ceipsantciriac.com
SUMMARY:Fi de curs
DESCRIPTION:
URL:https://www.ceipsantciriac.com/esdeveniment/fi-de-curs/
END:VEVENT
BEGIN:VEVENT
DTSTART;TZID=Europe/Madrid:20240624T080000
DTEND;TZID=Europe/Madrid:20240624T140000
DTSTAMP:20260420T094105
CREATED:20240620T234938Z
LAST-MODIFIED:20240620T235626Z
UID:4837-1719216000-1719237600@www.ceipsantciriac.com
SUMMARY:Oberta la matrícula pel curs 2024-25
DESCRIPTION:Des d’avui dilluns 24 de juny fins al divendres 28 s’obri el termini de matrícula pel curs 2024-25. \nTrobareu informació a: Info Famílies   Matrícula 2024-2025 on us podeu descarregar tota la documentació necessària.
URL:https://www.ceipsantciriac.com/esdeveniment/oberta-la-matricula-pel-curs-2024-25/
CATEGORIES:Matrícula
END:VEVENT
BEGIN:VEVENT
DTSTART;VALUE=DATE:20241101
DTEND;VALUE=DATE:20241102
DTSTAMP:20260420T094105
CREATED:20240924T091115Z
LAST-MODIFIED:20240924T091115Z
UID:4889-1730419200-1730505599@www.ceipsantciriac.com
SUMMARY:Festiu
DESCRIPTION:
URL:https://www.ceipsantciriac.com/esdeveniment/festiu/
CATEGORIES:Festius
END:VEVENT
BEGIN:VEVENT
DTSTART;VALUE=DATE:20241104
DTEND;VALUE=DATE:20241105
DTSTAMP:20260420T094105
CREATED:20240924T091216Z
LAST-MODIFIED:20240924T091216Z
UID:4892-1730678400-1730764799@www.ceipsantciriac.com
SUMMARY:Festiu
DESCRIPTION:
URL:https://www.ceipsantciriac.com/esdeveniment/festiu-2/
CATEGORIES:Festius
END:VEVENT
BEGIN:VEVENT
DTSTART;VALUE=DATE:20241206
DTEND;VALUE=DATE:20241207
DTSTAMP:20260420T094105
CREATED:20240924T091305Z
LAST-MODIFIED:20240924T091305Z
UID:4894-1733443200-1733529599@www.ceipsantciriac.com
SUMMARY:Festiu
DESCRIPTION:
URL:https://www.ceipsantciriac.com/esdeveniment/festiu-3/
CATEGORIES:Festius
END:VEVENT
BEGIN:VEVENT
DTSTART;TZID=Europe/Madrid:20241221T080000
DTEND;TZID=Europe/Madrid:20250107T170000
DTSTAMP:20260420T094105
CREATED:20240924T091437Z
LAST-MODIFIED:20240924T091437Z
UID:4896-1734768000-1736269200@www.ceipsantciriac.com
SUMMARY:Vacances de Nadal
DESCRIPTION:
URL:https://www.ceipsantciriac.com/esdeveniment/vacances-de-nadal/
CATEGORIES:Vacances
END:VEVENT
BEGIN:VEVENT
DTSTART;VALUE=DATE:20250212
DTEND;VALUE=DATE:20250213
DTSTAMP:20260420T094105
CREATED:20240924T091522Z
LAST-MODIFIED:20240924T091522Z
UID:4898-1739318400-1739404799@www.ceipsantciriac.com
SUMMARY:Festiu: Santa Eulària!
DESCRIPTION:
URL:https://www.ceipsantciriac.com/esdeveniment/festiu-santa-eularia/
CATEGORIES:Festius
END:VEVENT
BEGIN:VEVENT
DTSTART;VALUE=DATE:20250228
DTEND;VALUE=DATE:20250301
DTSTAMP:20260420T094105
CREATED:20240924T091556Z
LAST-MODIFIED:20240924T091556Z
UID:4900-1740700800-1740787199@www.ceipsantciriac.com
SUMMARY:Festiu
DESCRIPTION:
URL:https://www.ceipsantciriac.com/esdeveniment/festiu-4/
CATEGORIES:Festius
END:VEVENT
BEGIN:VEVENT
DTSTART;VALUE=DATE:20250303
DTEND;VALUE=DATE:20250304
DTSTAMP:20260420T094105
CREATED:20240924T091619Z
LAST-MODIFIED:20240924T091619Z
UID:4902-1740960000-1741046399@www.ceipsantciriac.com
SUMMARY:Festiu
DESCRIPTION:
URL:https://www.ceipsantciriac.com/esdeveniment/festiu-5/
CATEGORIES:Festius
END:VEVENT
BEGIN:VEVENT
DTSTART;TZID=Europe/Madrid:20250417T080000
DTEND;TZID=Europe/Madrid:20250427T170000
DTSTAMP:20260420T094105
CREATED:20240924T091709Z
LAST-MODIFIED:20240924T091709Z
UID:4904-1744876800-1745773200@www.ceipsantciriac.com
SUMMARY:Vacances Pascua
DESCRIPTION:
URL:https://www.ceipsantciriac.com/esdeveniment/vacances-pascua/
CATEGORIES:Vacances
END:VEVENT
BEGIN:VEVENT
DTSTART;TZID=Europe/Madrid:20250501T080000
DTEND;TZID=Europe/Madrid:20250502T233000
DTSTAMP:20260420T094105
CREATED:20240924T091802Z
LAST-MODIFIED:20240924T091802Z
UID:4906-1746086400-1746228600@www.ceipsantciriac.com
SUMMARY:Festiu
DESCRIPTION:
URL:https://www.ceipsantciriac.com/esdeveniment/festiu-6/
CATEGORIES:Festius
END:VEVENT
BEGIN:VEVENT
DTSTART;VALUE=DATE:20250620
DTEND;VALUE=DATE:20250621
DTSTAMP:20260420T094105
CREATED:20240924T092028Z
LAST-MODIFIED:20240924T092028Z
UID:4908-1750377600-1750463999@www.ceipsantciriac.com
SUMMARY:Finalització curs 24-25
DESCRIPTION:
URL:https://www.ceipsantciriac.com/esdeveniment/finalitzacio-curs-24-25/
CATEGORIES:Finalització de les classes.
END:VEVENT
END:VCALENDAR