BEGIN:VCALENDAR
VERSION:2.0
PRODID:-//CEIP Sant Ciriac - ECPv6.8.2.1//NONSGML v1.0//EN
CALSCALE:GREGORIAN
METHOD:PUBLISH
X-WR-CALNAME:CEIP Sant Ciriac
X-ORIGINAL-URL:https://www.ceipsantciriac.com
X-WR-CALDESC:Esdeveniments per CEIP Sant Ciriac
REFRESH-INTERVAL;VALUE=DURATION:PT1H
X-Robots-Tag:noindex
X-PUBLISHED-TTL:PT1H
BEGIN:VTIMEZONE
TZID:Europe/Madrid
BEGIN:DAYLIGHT
TZOFFSETFROM:+0100
TZOFFSETTO:+0200
TZNAME:CEST
DTSTART:20240331T010000
END:DAYLIGHT
BEGIN:STANDARD
TZOFFSETFROM:+0200
TZOFFSETTO:+0100
TZNAME:CET
DTSTART:20241027T010000
END:STANDARD
END:VTIMEZONE
BEGIN:VEVENT
DTSTART;TZID=Europe/Madrid:20240314T090000
DTEND;TZID=Europe/Madrid:20240314T140000
DTSTAMP:20260420T084435
CREATED:20240315T181916Z
LAST-MODIFIED:20240315T182041Z
UID:4377-1710406800-1710424800@www.ceipsantciriac.com
SUMMARY:Patrícia Boned
DESCRIPTION:Visita a l’exposició “Humanas” de Patrícia Boned
URL:https://www.ceipsantciriac.com/esdeveniment/4377/
END:VEVENT
END:VCALENDAR